BEGIN:VCALENDAR
VERSION:2.0
METHOD:PUBLISH
BEGIN:VEVENT
DTSTAMP:20260419T225925Z
DTSTART:20261110T193000Z
DTEND:20261110T210000Z
SUMMARY:Application Support Program
LOCATION:173 Colborne Street
END:VEVENT
END:VCALENDAR
