BEGIN:VCALENDAR
VERSION:2.0
METHOD:PUBLISH
BEGIN:VEVENT
DTSTAMP:20260419T153459Z
DTSTART:20260515T180000Z
DTEND:20260515T200000Z
SUMMARY:Community Connections
LOCATION:173 Colborne Street
END:VEVENT
END:VCALENDAR
