BEGIN:VCALENDAR
VERSION:2.0
METHOD:PUBLISH
BEGIN:VEVENT
DTSTAMP:20260421T095025Z
DTSTART:20260413T140000Z
DTEND:20260413T150000Z
SUMMARY:Tech Time
LOCATION:173 Colborne Street
END:VEVENT
END:VCALENDAR
