BEGIN:VCALENDAR
VERSION:2.0
METHOD:PUBLISH
BEGIN:VEVENT
DTSTAMP:20260420T093903Z
DTSTART:20260401T200000Z
DTEND:20260401T230000Z
SUMMARY:Book Buddies (Grades 2 - 8)
LOCATION:173 Colborne Street
END:VEVENT
END:VCALENDAR
