BEGIN:VCALENDAR
VERSION:2.0
METHOD:PUBLISH
BEGIN:VEVENT
DTSTAMP:20260421T084053Z
DTSTART:20260319T183000Z
DTEND:20260319T193000Z
SUMMARY:K-Pop Demon Hunters: Glow Dance Quest 
LOCATION:173 Colborne Street
END:VEVENT
END:VCALENDAR
