BEGIN:VCALENDAR
VERSION:2.0
METHOD:PUBLISH
BEGIN:VEVENT
DTSTAMP:20260421T132416Z
DTSTART:20260318T183000Z
DTEND:20260318T193000Z
SUMMARY:Bad Art Afternoon for Tweens
LOCATION:173 Colborne Street
END:VEVENT
END:VCALENDAR
