BEGIN:VCALENDAR
VERSION:2.0
METHOD:PUBLISH
BEGIN:VEVENT
DTSTAMP:20260421T132135Z
DTSTART:20260317T183000Z
DTEND:20260317T191500Z
SUMMARY:Music with Dave Jensen &amp; Friends
LOCATION:173 Colborne Street
END:VEVENT
END:VCALENDAR
