BEGIN:VCALENDAR
VERSION:2.0
METHOD:PUBLISH
BEGIN:VEVENT
DTSTAMP:20260421T120705Z
DTSTART:20260317T183000Z
DTEND:20260317T200000Z
SUMMARY:Bored to Boards: Hang Out, Play Games, Eat Snacks
LOCATION:173 Colborne Street
END:VEVENT
END:VCALENDAR
