BEGIN:VCALENDAR
VERSION:2.0
METHOD:PUBLISH
BEGIN:VEVENT
DTSTAMP:20260421T121146Z
DTSTART:20260314T143000Z
DTEND:20260314T160000Z
SUMMARY:A Day at the Circus: A Drag Story Adventure
LOCATION:173 Colborne Street
END:VEVENT
END:VCALENDAR
