BEGIN:VCALENDAR
VERSION:2.0
METHOD:PUBLISH
BEGIN:VEVENT
DTSTAMP:20260423T182604Z
DTSTART:20260308T183000Z
DTEND:20260308T200000Z
SUMMARY:Bell City Strum Club
LOCATION:173 Colborne Street
END:VEVENT
END:VCALENDAR
