BEGIN:VCALENDAR
VERSION:2.0
METHOD:PUBLISH
BEGIN:VEVENT
DTSTAMP:20260421T054039Z
DTSTART:20251202T153000Z
DTEND:20251202T160000Z
SUMMARY:Baby &amp; Me Storytime (St. Paul Branch)
LOCATION:441 St. Paul Avenue
END:VEVENT
END:VCALENDAR
