BEGIN:VCALENDAR
VERSION:2.0
METHOD:PUBLISH
BEGIN:VEVENT
DTSTAMP:20260421T040847Z
DTSTART:20251104T153000Z
DTEND:20251104T160000Z
SUMMARY:Baby &amp; Me Storytime (St. Paul Branch)
LOCATION:441 St. Paul Avenue
END:VEVENT
END:VCALENDAR
