BEGIN:VCALENDAR
VERSION:2.0
METHOD:PUBLISH
BEGIN:VEVENT
DTSTAMP:20260421T084259Z
DTSTART:20250929T180000Z
DTEND:20250929T200000Z
SUMMARY:National Day for Truth and Reconciliation Screening: Bones of Crows 
LOCATION:173 Colborne Street
END:VEVENT
END:VCALENDAR
