BEGIN:VCALENDAR
VERSION:2.0
METHOD:PUBLISH
BEGIN:VEVENT
DTSTAMP:20260424T165848Z
DTSTART:20250807T170000Z
DTEND:20250807T190000Z
SUMMARY:Connected Aging: Intro to Facebook Marketplace
LOCATION:173 Colborne Street
END:VEVENT
END:VCALENDAR
