BEGIN:VCALENDAR
VERSION:2.0
METHOD:PUBLISH
BEGIN:VEVENT
DTSTAMP:20260421T185844Z
DTSTART:20250514T193000Z
DTEND:20250514T220000Z
SUMMARY:Crossroad Youth Drop-In Space
LOCATION:173 Colborne Street
END:VEVENT
END:VCALENDAR
