BEGIN:VCALENDAR
VERSION:2.0
METHOD:PUBLISH
BEGIN:VEVENT
DTSTAMP:20260420T234714Z
DTSTART:20250401T143000Z
DTEND:20250401T150000Z
SUMMARY:Baby &amp; Me Storytime (St. Paul Branch)
LOCATION:441 St. Paul Avenue
END:VEVENT
END:VCALENDAR
