BEGIN:VCALENDAR
VERSION:2.0
METHOD:PUBLISH
BEGIN:VEVENT
DTSTAMP:20260421T154136Z
DTSTART:20250312T193000Z
DTEND:20250312T220000Z
SUMMARY:Crossroad Youth Drop-In Space
LOCATION:173 Colborne Street
END:VEVENT
END:VCALENDAR
