BEGIN:VCALENDAR
VERSION:2.0
METHOD:PUBLISH
BEGIN:VEVENT
DTSTAMP:20260421T102005Z
DTSTART:20250308T153000Z
DTEND:20250308T163000Z
SUMMARY:Mermaids and Pirates: A Drag Storytime Adventure
LOCATION:173 Colborne Street
END:VEVENT
END:VCALENDAR
