BEGIN:VCALENDAR
VERSION:2.0
METHOD:PUBLISH
BEGIN:VEVENT
DTSTAMP:20260421T170756Z
DTSTART:20250305T203000Z
DTEND:20250305T230000Z
SUMMARY:Crossroad Youth Drop-In Space
LOCATION:173 Colborne Street
END:VEVENT
END:VCALENDAR
