BEGIN:VCALENDAR
VERSION:2.0
METHOD:PUBLISH
BEGIN:VEVENT
DTSTAMP:20260421T154029Z
DTSTART:20250226T203000Z
DTEND:20250226T230000Z
SUMMARY:Crossroad Youth Drop-In Space
LOCATION:173 Colborne Street
END:VEVENT
END:VCALENDAR
