BEGIN:VCALENDAR
VERSION:2.0
METHOD:PUBLISH
BEGIN:VEVENT
DTSTAMP:20260420T201540Z
DTSTART:20250225T153000Z
DTEND:20250225T160000Z
SUMMARY:Baby &amp; Me Storytime (St. Paul Branch)
LOCATION:441 St. Paul Avenue
END:VEVENT
END:VCALENDAR
