BEGIN:VCALENDAR
VERSION:2.0
METHOD:PUBLISH
BEGIN:VEVENT
DTSTAMP:20260421T125407Z
DTSTART:20241211T203000Z
DTEND:20241211T230000Z
SUMMARY:Crossroad Youth Drop-In Space
LOCATION:173 Colborne Street
END:VEVENT
END:VCALENDAR
