BEGIN:VCALENDAR
VERSION:2.0
METHOD:PUBLISH
BEGIN:VEVENT
DTSTAMP:20260420T190156Z
DTSTART:20241210T180000Z
DTEND:20241210T193000Z
SUMMARY:Brantford Native Housing 
LOCATION:173 Colborne Street
END:VEVENT
END:VCALENDAR
