BEGIN:VCALENDAR
VERSION:2.0
METHOD:PUBLISH
BEGIN:VEVENT
DTSTAMP:20260425T234756Z
DTSTART:20241128T143000Z
DTEND:20241128T173000Z
SUMMARY:Service Canada Outreach Specialist
LOCATION:173 Colborne Street
END:VEVENT
END:VCALENDAR
