BEGIN:VCALENDAR
VERSION:2.0
METHOD:PUBLISH
BEGIN:VEVENT
DTSTAMP:20260420T111151Z
DTSTART:20241107T210000Z
DTEND:20241108T000000Z
SUMMARY:Reading Club (Grades 7 - 8)
LOCATION:173 Colborne Street
END:VEVENT
END:VCALENDAR
