BEGIN:VCALENDAR
VERSION:2.0
METHOD:PUBLISH
BEGIN:VEVENT
DTSTAMP:20260425T222828Z
DTSTART:20241107T143000Z
DTEND:20241107T173000Z
SUMMARY:Service Canada Outreach Specialist
LOCATION:173 Colborne Street
END:VEVENT
END:VCALENDAR
