BEGIN:VCALENDAR
VERSION:2.0
METHOD:PUBLISH
BEGIN:VEVENT
DTSTAMP:20260420T093736Z
DTSTART:20241105T210000Z
DTEND:20241106T000000Z
SUMMARY:Reading Club (Grades 7 - 8)
LOCATION:173 Colborne Street
END:VEVENT
END:VCALENDAR
