BEGIN:VCALENDAR
VERSION:2.0
METHOD:PUBLISH
BEGIN:VEVENT
DTSTAMP:20260420T161637Z
DTSTART:20241029T170000Z
DTEND:20241029T183000Z
SUMMARY:Brantford Native Housing 
LOCATION:173 Colborne Street
END:VEVENT
END:VCALENDAR
