BEGIN:VCALENDAR
VERSION:2.0
METHOD:PUBLISH
BEGIN:VEVENT
DTSTAMP:20260424T172842Z
DTSTART:20241023T210000Z
DTEND:20241023T220000Z
SUMMARY:Book a Librarian
LOCATION:173 Colborne Street
END:VEVENT
END:VCALENDAR
