BEGIN:VCALENDAR
VERSION:2.0
METHOD:PUBLISH
BEGIN:VEVENT
DTSTAMP:20260420T161458Z
DTSTART:20241022T170000Z
DTEND:20241022T183000Z
SUMMARY:Brantford Native Housing 
LOCATION:173 Colborne Street
END:VEVENT
END:VCALENDAR
