BEGIN:VCALENDAR
VERSION:2.0
METHOD:PUBLISH
BEGIN:VEVENT
DTSTAMP:20260425T222842Z
DTSTART:20241010T133000Z
DTEND:20241010T163000Z
SUMMARY:Service Canada Outreach Specialist
LOCATION:173 Colborne Street
END:VEVENT
END:VCALENDAR
