BEGIN:VCALENDAR
VERSION:2.0
METHOD:PUBLISH
BEGIN:VEVENT
DTSTAMP:20260425T210107Z
DTSTART:20241003T133000Z
DTEND:20241003T163000Z
SUMMARY:Service Canada Outreach Specialist
LOCATION:173 Colborne Street
END:VEVENT
END:VCALENDAR
