BEGIN:VCALENDAR
VERSION:2.0
METHOD:PUBLISH
BEGIN:VEVENT
DTSTAMP:20260421T101900Z
DTSTART:20240926T223000Z
DTEND:20240926T235000Z
SUMMARY:Meet the Author: Featuring Ray Robertson
LOCATION:173 Colborne Street
END:VEVENT
END:VCALENDAR
