BEGIN:VCALENDAR
VERSION:2.0
METHOD:PUBLISH
BEGIN:VEVENT
DTSTAMP:20260420T140749Z
DTSTART:20240924T143000Z
DTEND:20240924T150000Z
SUMMARY:Baby &amp; Me Storytime (St. Paul Branch)
LOCATION:441 St. Paul Avenue
END:VEVENT
END:VCALENDAR
