BEGIN:VCALENDAR
VERSION:2.0
METHOD:PUBLISH
BEGIN:VEVENT
DTSTAMP:20260420T130747Z
DTSTART:20240910T170000Z
DTEND:20240910T183000Z
SUMMARY:Brantford Native Housing 
LOCATION:173 Colborne Street
END:VEVENT
END:VCALENDAR
