BEGIN:VCALENDAR
VERSION:2.0
METHOD:PUBLISH
BEGIN:VEVENT
DTSTAMP:20260421T101707Z
DTSTART:20240828T170000Z
DTEND:20240828T180000Z
SUMMARY:Play Date in the Square
LOCATION:Harmony Square, 89 Dalhousie Street
END:VEVENT
END:VCALENDAR
