BEGIN:VCALENDAR
VERSION:2.0
METHOD:PUBLISH
BEGIN:VEVENT
DTSTAMP:20260420T130449Z
DTSTART:20240827T170000Z
DTEND:20240827T183000Z
SUMMARY:Brantford Native Housing 
LOCATION:173 Colborne Street
END:VEVENT
END:VCALENDAR
