BEGIN:VCALENDAR
VERSION:2.0
METHOD:PUBLISH
BEGIN:VEVENT
DTSTAMP:20260425T192045Z
DTSTART:20240822T133000Z
DTEND:20240822T163000Z
SUMMARY:Service Canada Outreach Specialist
LOCATION:173 Colborne Street
END:VEVENT
END:VCALENDAR
