BEGIN:VCALENDAR
VERSION:2.0
METHOD:PUBLISH
BEGIN:VEVENT
DTSTAMP:20260424T135602Z
DTSTART:20240815T143000Z
DTEND:20240815T153000Z
SUMMARY:Backyard STEAM
LOCATION:441 St. Paul Avenue
END:VEVENT
END:VCALENDAR
