BEGIN:VCALENDAR
VERSION:2.0
METHOD:PUBLISH
BEGIN:VEVENT
DTSTAMP:20260424T120825Z
DTSTART:20240808T143000Z
DTEND:20240808T153000Z
SUMMARY:Backyard STEAM
LOCATION:441 St. Paul Avenue
END:VEVENT
END:VCALENDAR
