BEGIN:VCALENDAR
VERSION:2.0
METHOD:PUBLISH
BEGIN:VEVENT
DTSTAMP:20260421T102020Z
DTSTART:20240715T183000Z
DTEND:20240715T193000Z
SUMMARY:Marvelous Mondays - Magic Show with Scott Dietrich
LOCATION:173 Colborne Street
END:VEVENT
END:VCALENDAR
