BEGIN:VCALENDAR
VERSION:2.0
METHOD:PUBLISH
BEGIN:VEVENT
DTSTAMP:20260426T014937Z
DTSTART:20240703T180000Z
DTEND:20240703T193000Z
SUMMARY:Alzheimer Society Social Café
LOCATION:173 Colborne Street
END:VEVENT
END:VCALENDAR
