BEGIN:VCALENDAR
VERSION:2.0
METHOD:PUBLISH
BEGIN:VEVENT
DTSTAMP:20260426T014753Z
DTSTART:20240626T180000Z
DTEND:20240626T193000Z
SUMMARY:Alzheimer Society Social Café
LOCATION:173 Colborne Street
END:VEVENT
END:VCALENDAR
