BEGIN:VCALENDAR
VERSION:2.0
METHOD:PUBLISH
BEGIN:VEVENT
DTSTAMP:20260426T000906Z
DTSTART:20240605T180000Z
DTEND:20240605T193000Z
SUMMARY:Alzheimer Society Social Café
LOCATION:173 Colborne Street
END:VEVENT
END:VCALENDAR
