BEGIN:VCALENDAR
VERSION:2.0
METHOD:PUBLISH
BEGIN:VEVENT
DTSTAMP:20260426T001617Z
DTSTART:20240515T180000Z
DTEND:20240515T193000Z
SUMMARY:Alzheimer Society Social Café
LOCATION:173 Colborne Street
END:VEVENT
END:VCALENDAR
