BEGIN:VCALENDAR
VERSION:2.0
METHOD:PUBLISH
BEGIN:VEVENT
DTSTAMP:20260424T004703Z
DTSTART:20240430T223000Z
DTEND:20240430T233000Z
SUMMARY:Brantford Bookworms
LOCATION:441 St. Paul Avenue
END:VEVENT
END:VCALENDAR
