BEGIN:VCALENDAR
VERSION:2.0
METHOD:PUBLISH
BEGIN:VEVENT
DTSTAMP:20260423T231549Z
DTSTART:20240326T223000Z
DTEND:20240326T233000Z
SUMMARY:Brantford Bookworms
LOCATION:441 St. Paul Avenue
END:VEVENT
END:VCALENDAR
