BEGIN:VCALENDAR
VERSION:2.0
METHOD:PUBLISH
BEGIN:VEVENT
DTSTAMP:20260425T211533Z
DTSTART:20240320T180000Z
DTEND:20240320T193000Z
SUMMARY:Alzheimer Society Social Café
LOCATION:173 Colborne Street
END:VEVENT
END:VCALENDAR
