BEGIN:VCALENDAR
VERSION:2.0
METHOD:PUBLISH
BEGIN:VEVENT
DTSTAMP:20260423T231140Z
DTSTART:20240227T233000Z
DTEND:20240228T003000Z
SUMMARY:Brantford Bookworms
LOCATION:441 St. Paul Avenue
END:VEVENT
END:VCALENDAR
