BEGIN:VCALENDAR
VERSION:2.0
METHOD:PUBLISH
BEGIN:VEVENT
DTSTAMP:20260422T054640Z
DTSTART:20240216T160000Z
DTEND:20240216T164500Z
SUMMARY:Yoga in the Library
LOCATION:173 Colborne Street
END:VEVENT
END:VCALENDAR
